BEGIN:VCALENDAR
VERSION:2.0
PRODID:-//eventon.com NONSGML v1.0//EN
BEGIN:VEVENT
UID:69eb41b803fed
DTSTAMP:20260424T111104
DTSTART:20200425T180000Z
DTEND:20200425T000000Z
LOCATION:Blend Coffee & Shake House 5 High Street
SUMMARY:Vapes & Shakes
DESCRIPTION: With its own menu of vapes\,  shakes & desserts combos. All vape liquid is supplied from Juicy vapes
URL:http://blendcoffeeandshakehouse.co.uk/events/vapes-shakes/var/ri-1.l-L1
END:VEVENT
END:VCALENDAR